BEGIN:VCALENDAR
VERSION:2.0
PRODID:-//Club Alpbach Vorarlberg - ECPv6.10.0//NONSGML v1.0//EN
CALSCALE:GREGORIAN
METHOD:PUBLISH
X-WR-CALNAME:Club Alpbach Vorarlberg
X-ORIGINAL-URL:https://www.club-alpbach-vorarlberg.at
X-WR-CALDESC:Veranstaltungen für Club Alpbach Vorarlberg
REFRESH-INTERVAL;VALUE=DURATION:PT1H
X-Robots-Tag:noindex
X-PUBLISHED-TTL:PT1H
BEGIN:VTIMEZONE
TZID:Europe/Helsinki
BEGIN:DAYLIGHT
TZOFFSETFROM:+0200
TZOFFSETTO:+0300
TZNAME:EEST
DTSTART:20260329T010000
END:DAYLIGHT
BEGIN:STANDARD
TZOFFSETFROM:+0300
TZOFFSETTO:+0200
TZNAME:EET
DTSTART:20261025T010000
END:STANDARD
END:VTIMEZONE
BEGIN:VEVENT
DTSTART;TZID=Europe/Helsinki:20260226T170000
DTEND;TZID=Europe/Helsinki:20260226T170000
DTSTAMP:20260426T070022
CREATED:20260110T150233Z
LAST-MODIFIED:20260110T150233Z
UID:30755-1772125200-1772125200@www.club-alpbach-vorarlberg.at
SUMMARY:Vorarlberger Studierende - Rückkehren und Bleiben in Vorarlberg
DESCRIPTION:Die Wirtschaftskammer Vorarlberg lädt Euch gemeinsam mit dem Club Alpbach Vorarlberg herzlich zu einem Dialogformat ein. Gemeinsam wollen wir neue Ansätze diskutieren\, damit junge Vorarlberger:innen nach dem Studium zurückkehren und Impulse für Gründer:innen besprechen.\n\nWir freuen uns auf Eure Teilnahme!
URL:https://www.club-alpbach-vorarlberg.at/event/vorarlberger-studierende-rueckkehren-und-bleiben-in-vorarlberg/
LOCATION:Feldkirch\, Wirtschaftskammer Vorarlberg\, Wichnergasse 9\, Feldkirch\, 6800
END:VEVENT
END:VCALENDAR